BEGIN:VCALENDAR
VERSION:2.0
CALSCALE:GREGORIAN
PRODID:-//MyApp//Calendar 1.0//EN
BEGIN:VEVENT
METHOD:PUBLISH
UID:32099@regionalniportaly.cz
DTSTAMP:20260420T035025Z
DTSTART;VALUE=DATE:20230624
DTEND;VALUE=DATE:20230625
SUMMARY:Beerfest 2023 Nechvalice
DESCRIPTION:2. Ročník BeerFestDalší ročník Nechvalického Beerfestu zná své vystupující!&nbsp\;Vstupenky na akci jsou již v předprodeji.Dopolední program bude vyplněn opět nohejbalovým turnajem O pohár starosty Obce Nechvalice\, na který se již můžete přihlašovat (3v3).&nbsp\; Začátek je naplánován na 8:30.Nebude chybět vyžití pro děti v podobě skákacího hradu a stejně jako loni se na Beerfestu představí TK Slimka Sedlčany.&nbsp\;Více informací na facebooku akce&nbsp\;Beerfest 2023 Nechvalice | FacebookHvězdami Beerfestu 2023 budou:TortillaWarování!Covers for loversNáhodný výběrZakázanÝ ovoceCivilní obranaManiacNa Beerfest poprvé zavítá TRDELNÍK a také speciality z chilli papriček pro opravdové fajnšmekry.Nebudou chybět tradičně skvěle pizzy od Giovanni a letos pro Vás budeme mít novinku v podobě vepřové kýty na rožni.Vstup pro děti do 140 cm zdarma - nebude chybět skákací hrad a další aktivity pro děti
LOCATION:Nechvalice
END:VEVENT
END:VCALENDAR