BEGIN:VCALENDAR
VERSION:2.0
CALSCALE:GREGORIAN
PRODID:-//MyApp//Calendar 1.0//EN
BEGIN:VEVENT
METHOD:PUBLISH
UID:32137@regionalniportaly.cz
DTSTAMP:20260420T035006Z
DTSTART;VALUE=DATE:20230624
DTEND;VALUE=DATE:20230625
SUMMARY:HudliceFest 2023
DESCRIPTION:HudliceFest 20234.ročník jednodenního hudebního festivalu\, který se uskuteční v sobotu 24.6.2023&nbsp\;&nbsp\;od 13.00 ve sportovním areálu v Hudlicích&nbsp\;Zábavný program pro dětiMalování na obličej - Vše pro dětský úsměvSkákací nafukovací hradDovednostní hryDěti do 15 let v doprovodu rodičů mají vstup zdarma.Držitelé průkazu ZTP/P + doprovod mají vstup zdarma.&nbsp\;24.6.2023 od 13 hodin (brány festivalu se otevřou ve 12:30) se uskuteční ve sportovním areálu v Hudlicích 4. ročník charitativního festivalu HudliceFest.Posláním čtvrtého ročníku bude tentokráte finančně pomoci organizaci&nbsp\;Domov Ráček\, o.p.s.&nbsp\;Anopheles - 13:00Vypuštěné Koupaliště&nbsp\;- 14:30VOXEL &amp\; Spol - 16:00Civilní obrana -&nbsp\;17:30Wanastowi Vjecy revival&nbsp\;&nbsp\;- 19:00Aleš Brichta Project&nbsp\;- 20:30Kabát revival West -&nbsp\;22:00&nbsp\;Pořádá TJ Sokol Hudlice. Změna programu vyhrazena.&nbsp\;&nbsp\;
LOCATION:Hudlice
END:VEVENT
END:VCALENDAR