BEGIN:VCALENDAR
VERSION:2.0
CALSCALE:GREGORIAN
PRODID:-//MyApp//Calendar 1.0//EN
BEGIN:VEVENT
METHOD:PUBLISH
UID:32285@regionalniportaly.cz
DTSTAMP:20260420T041436Z
DTSTART;VALUE=DATE:20230617
DTEND;VALUE=DATE:20230618
SUMMARY:Zámecký minifestival
DESCRIPTION:Město Králův Dvůr Vás srdečně zve na další ročník Zámeckého minifestivalu\, který se letos uskuteční opět na letní scéně zámku v Králově Dvoře. Můžete se těšit na nestárnoucí písničky Petra&nbsp\; Rezka\, Vojty Nedvěda a dalších hostů.
LOCATION:Králův Dvůr
END:VEVENT
END:VCALENDAR