BEGIN:VCALENDAR
VERSION:2.0
CALSCALE:GREGORIAN
PRODID:-//MyApp//Calendar 1.0//EN
BEGIN:VEVENT
METHOD:PUBLISH
UID:32287@regionalniportaly.cz
DTSTAMP:20260420T072014Z
DTSTART;VALUE=DATE:20230715
DTEND;VALUE=DATE:20230716
SUMMARY:Revivalový festival
DESCRIPTION:Na Letní scéně zámku v Králově Dvoře se 15. července 2023 uskuteční další ročník oblíbené hudební akce Revivalový festival. Na letošním ročníku vystoupí kapely:&nbsp\;Karel Gott Cover Band\,&nbsp\;OZZY OSBOURNE&nbsp\;and BLACK SABBATH REVIVAL a&nbsp\;JIŘÍ&nbsp\;SCHELINGER REVIVAL. Zveme všechny fanoušky těchto revivalových skupin na netradiční hudební show\, která se uskuteční za každého počasí.
LOCATION:Králův Dvůr
END:VEVENT
END:VCALENDAR