BEGIN:VCALENDAR
VERSION:2.0
CALSCALE:GREGORIAN
PRODID:-//MyApp//Calendar 1.0//EN
BEGIN:VEVENT
METHOD:PUBLISH
UID:32407@regionalniportaly.cz
DTSTAMP:20260420T051832Z
DTSTART;VALUE=DATE:20230716
DTEND;VALUE=DATE:20230717
SUMMARY:Květinový workshop
DESCRIPTION:Na workshopu si ukážeme\, jak vybrat květiny do sezónní kytice\, jak jednotlivé stonky svázat\, aby kytice dostala tvar.&nbsp\;- povídání o kytkách a princip vazby- výběr květin a materiálu z květinové farmy Kytkárna Julie- vazba minimálně 2 kytic- péče o kytice- tipy na výběr vhodné vázy-květinové občerstveníCo s sebou? Nádoba&nbsp\;na převoz kytice\, zahradnické nůžky (popřípadě půjčíme)
LOCATION:Svatý Jan
END:VEVENT
END:VCALENDAR