BEGIN:VCALENDAR
VERSION:2.0
CALSCALE:GREGORIAN
PRODID:-//MyApp//Calendar 1.0//EN
BEGIN:VEVENT
METHOD:PUBLISH
UID:32408@regionalniportaly.cz
DTSTAMP:20260420T052035Z
DTSTART;VALUE=DATE:20230722
DTEND;VALUE=DATE:20230723
SUMMARY:Vlastina Svátková v divadelní kavárně
DESCRIPTION:Zveme Vás na příjemný letní podvečer s herečkou a spisovatelkou Vlastinou Svátkovou. Povídání o životě\, kníhách\, filmování\, špercích...
LOCATION:Svatý Jan
END:VEVENT
END:VCALENDAR