BEGIN:VCALENDAR
VERSION:2.0
CALSCALE:GREGORIAN
PRODID:-//MyApp//Calendar 1.0//EN
BEGIN:VEVENT
METHOD:PUBLISH
UID:32441@regionalniportaly.cz
DTSTAMP:20260420T071225Z
DTSTART;VALUE=DATE:20230729
DTEND;VALUE=DATE:20230730
SUMMARY:Jiří Dědeček v divadelní kavárně
DESCRIPTION:Srdečně Vás zveme na koncert písničkáře a básníka Jiřího Dědečka.
LOCATION:Svatý Jan
END:VEVENT
END:VCALENDAR