BEGIN:VCALENDAR
VERSION:2.0
CALSCALE:GREGORIAN
PRODID:-//MyApp//Calendar 1.0//EN
BEGIN:VEVENT
METHOD:PUBLISH
UID:32514@regionalniportaly.cz
DTSTAMP:20260420T072118Z
DTSTART;VALUE=DATE:20230916
DTEND;VALUE=DATE:20230917
SUMMARY:Běh proti roztroušené skleróze
DESCRIPTION:- 3 trasy ( lehká\, střední\, těžká )- 3 kategorie ( děti\, ženy\, muži )- ceny od sponzorů&nbsp\;
LOCATION:Jesenice
END:VEVENT
END:VCALENDAR