BEGIN:VCALENDAR
VERSION:2.0
CALSCALE:GREGORIAN
PRODID:-//MyApp//Calendar 1.0//EN
BEGIN:VEVENT
METHOD:PUBLISH
UID:33140@regionalniportaly.cz
DTSTAMP:20260420T052025Z
DTSTART;VALUE=DATE:20230716
DTEND;VALUE=DATE:20230717
SUMMARY:Psaní je hraní - Kurz moderní kaligrafie
DESCRIPTION:Na kurzu Psaní je hraní vás naučím krásně psát. Provedu vás začátky krasopisu\, naučíte se psát brush penem\, speciálním fixem se štetcovým&nbsp\; hrotem určeným pro moderní kaligrafii. Poradím vám s výběrem psacích potřeb\, papíru a poodhalím kouzlo světa moderní kaligrafie.Tereza FloriánováVíce informací na natalie@kavasvet.cz
LOCATION:Svatý Jan
END:VEVENT
END:VCALENDAR