BEGIN:VCALENDAR
VERSION:2.0
CALSCALE:GREGORIAN
PRODID:-//MyApp//Calendar 1.0//EN
BEGIN:VEVENT
METHOD:PUBLISH
UID:33286@regionalniportaly.cz
DTSTAMP:20260420T035015Z
DTSTART;VALUE=DATE:20230616
DTEND;VALUE=DATE:20230617
SUMMARY:Laco Deczi
DESCRIPTION:V Kempu Řevnice opět po roce Laco Deczi a jeho pouhých 85 let.
LOCATION:Řevnice
END:VEVENT
END:VCALENDAR