BEGIN:VCALENDAR
VERSION:2.0
CALSCALE:GREGORIAN
PRODID:-//MyApp//Calendar 1.0//EN
BEGIN:VEVENT
METHOD:PUBLISH
UID:33332@regionalniportaly.cz
DTSTAMP:20260420T051903Z
DTSTART;VALUE=DATE:20230714
DTEND;VALUE=DATE:20230715
SUMMARY:Pavel Čadek v divadelní kavárně
DESCRIPTION:Srdečně Vás zveme na koncert Pavla Čadka.Pavel Čadek je brněnský písničkář hrající na violoncello a samozvaný zakladatel nového hudebního žánru "cellofolk"\, což je něco mezi Nohavicou (folk) a Apocalypticou (cellorock).&nbsp\;&nbsp\;
LOCATION:Svatý Jan
END:VEVENT
END:VCALENDAR