BEGIN:VCALENDAR
VERSION:2.0
CALSCALE:GREGORIAN
PRODID:-//MyApp//Calendar 1.0//EN
BEGIN:VEVENT
METHOD:PUBLISH
UID:33368@regionalniportaly.cz
DTSTAMP:20260420T053827Z
DTSTART;VALUE=DATE:20230627
DTEND;VALUE=DATE:20230628
SUMMARY:Korespondence V+W
DESCRIPTION:„Život herecký je strašný — někdy vůbec ne.“Do kin přichází další divadelní fenomén. Pražské Divadlo Na zábradlí se rozhodlo po deseti letech úspěšného uvádění stáhnout ze svého repertoáru inscenaci&nbsp\;Korespondence V+W. Diváci tak&nbsp\;budou mít jedinečnou možnost zažít neopakovatelný zážitek přímého přenosu kultovního divadla. Z&nbsp\;jeviště Divadla Na zábradlí do sálu našeho kina se přenese atmosféra beznadějně vyprodaného představení o životě dvou neobyčejných lidí Jiřího Voskovce a Jana Wericha v podání Václava Vašáka a Jiřího Vyorálka.Korespondence Voskovce a Wericha je silnou výpovědí o životě dvou mimořádných lidí v nelehké době. Vzájemné listy legendárních tvůrců Osvobozeného divadla\, jejichž cesty se po únoru 1948 rozešly\, jsou strhujícím svědectvím nejen jejich originality a umělecké zralosti\, ale současně odhalují i osudy těchto významných osobností v bipolárním světě\, plném železných opon a studených válek. Tyto dopisy\, které například u Jiřího Voskovce představují vrchol jeho poválečné literární tvorby\, jsou neocenitelným dokladem duchovního světa V+W. „Forma zkratky\, krátká spojení\, divadelní narážky\, privátní kódy\, k tomu brilantní stylizace a neuvěřitelná oslovení i podpisy“ – tak velice výstižně charakterizuje tuto korespondenci kritika.DÉLKA INSCENACE150 minut včetně přestávkyINSCENAČNÍ TÝMrežie a výběr hudby / Jan Mikulášekdramaturgie / Dora Štědroňováscéna / Svatopluk Sládečekkostýmy / Marek CpinOBSAZENÍJiří Voskovec / Václav VašákJan Werich / Jiří VyorálekZdenička / Anežka KubátováVstupné: 350 Kč
LOCATION:Řevnice
END:VEVENT
END:VCALENDAR