BEGIN:VCALENDAR
VERSION:2.0
CALSCALE:GREGORIAN
PRODID:-//MyApp//Calendar 1.0//EN
BEGIN:VEVENT
METHOD:PUBLISH
UID:33369@regionalniportaly.cz
DTSTAMP:20260420T055750Z
DTSTART;VALUE=DATE:20230826
DTEND;VALUE=DATE:20230827
SUMMARY:Letní jógový festival
DESCRIPTION:Srdečně Vás zveme na LETNÍ JÓGOVÝ FESTIVAL\, který se uskuteční v krásném klidném venkovském prostředí divadla Hogo Fogo v Drážkově.Program:8\,30 - 9\,45 Kreativní Vinyasa s Lenkou&nbsp\; Chabovou - Jóga od hlavy až k patě10\,00 - 11\,15 Hormonální jóga s Šárkou Simonidesovou - Svět hormonální jógy11.30 - 12\,45 Prana Vashya Yoga s Katkou Novákovou - Jóga Průhonice13\,45 - 14\,45 Přednáška Rytmus roku s Hankou Zemanovou - rytmus jako zdroj životní síly aneb jak využít darů sezónní&nbsp\; přírody na podporu zdraví15\,00 - 16\,15 Jin jóga s Veronikou Carmanovou - Karma&nbsp\; Yoga Praha16\,30 - 18\,00 koncert a kirtan s BlueBoy - meditativní hudba a zpívání manter&nbsp\;DOPROVODNÝ PROGRAM:indická masáž hlavymalování hennouprodejní stánkyautogramiádyvegetariánské jídlo i kavárenské dobroty&nbsp\;
LOCATION:Svatý Jan
END:VEVENT
END:VCALENDAR