BEGIN:VCALENDAR
VERSION:2.0
CALSCALE:GREGORIAN
PRODID:-//MyApp//Calendar 1.0//EN
BEGIN:VEVENT
METHOD:PUBLISH
UID:34226@regionalniportaly.cz
DTSTAMP:20260420T052005Z
DTSTART;VALUE=DATE:20230806
DTEND;VALUE=DATE:20230807
SUMMARY:Vinnetou a zlato apačů
DESCRIPTION:Srdečně Vás zveme na devátý ročník divadelního festivalu Vinnetou pokrevní bratrství\, letos nazvaný Vinnetou a zlato apačů\, který se uskuteční v areálu naší jezdecké školy ve dnech 5. a 6. srpna 2023 od 17 hodin. Po boku našich koní a stálých protagonistů vystoupí letos i hvězdní hosté.&nbsp\;
LOCATION:Neveklov
END:VEVENT
END:VCALENDAR