BEGIN:VCALENDAR
VERSION:2.0
CALSCALE:GREGORIAN
PRODID:-//MyApp//Calendar 1.0//EN
BEGIN:VEVENT
METHOD:PUBLISH
UID:34894@regionalniportaly.cz
DTSTAMP:20260420T053817Z
DTSTART;VALUE=DATE:20231118
DTEND;VALUE=DATE:20231119
SUMMARY:Šibřinky 2023
DESCRIPTION:Sokol Křivoklát vás zve na&nbsp\;2. OBNOVENÉ ŠIBŘINKY.V průběhu večera se můžete těšit na bohatý program: živou hudbu\, předtančení\, večerní překvapení\, občerstvení a zajímavou tombolu.K tanci a poslechu nám&nbsp\;zahraje hudební skupina Jan Fernet a spol.&nbsp\;Sál bude otevřen již od 19:15.Letošní téma: À la vlasové kreakce.Prosíme o historický\, maškarní nebo společenský kostým nebo kroj.Vstupenky v ceně 300 kč za osobu zakoupíte v předprodeji&nbsp\;osobně na úřadě Městysu Křivoklát\, Dr. M. Tyrše 93 – kontakt viz plakát nebo sociální sítě.&nbsp\;Část vstupenek je k dipozici také&nbsp\;online zde\, na smsticket portálu.&nbsp\;Výtěžek z akce&nbsp\;půjde na&nbsp\;podporu obnovy sokolovny.&nbsp\;&nbsp\;Těšíme&nbsp\;se na&nbsp\;ŠIBŘINKOVANOU!
LOCATION:Křivoklát
END:VEVENT
END:VCALENDAR