BEGIN:VCALENDAR
VERSION:2.0
CALSCALE:GREGORIAN
PRODID:-//MyApp//Calendar 1.0//EN
BEGIN:VEVENT
METHOD:PUBLISH
UID:36313@regionalniportaly.cz
DTSTAMP:20260420T072852Z
DTSTART;VALUE=DATE:20231225
DTEND;VALUE=DATE:20231226
SUMMARY:Petr Vondráček a Lokomotiva
DESCRIPTION:Již tradiční vánoční dýchanek s kapelou Lokomotiva
LOCATION:Loděnice
END:VEVENT
END:VCALENDAR