BEGIN:VCALENDAR
VERSION:2.0
CALSCALE:GREGORIAN
PRODID:-//MyApp//Calendar 1.0//EN
BEGIN:VEVENT
METHOD:PUBLISH
UID:36558@regionalniportaly.cz
DTSTAMP:20260420T072822Z
DTSTART;VALUE=DATE:20231208
DTEND;VALUE=DATE:20231209
SUMMARY:Vánoční koncert Věry Martinové v Ořechu
DESCRIPTION:Tradiční (letos jedenáctý) vánoční koncert v ořešské sokolovně se odehraje v pátek 8. prosince od 19:00 hod. Letošním učinkujícím bude zpěvačka Věra Martinová\, která nám za doprovodu skupiny Meritum přinese tu pravou vánoční atmosféru.Věra Martinová začínala jako zpěvačka v Orchestru Gustava Broma\, kdy se stala členkou dívčí kapely Schovanky. Po pěti letech zahájila sólovou uměleckou dráhu a&nbsp\; nazpívala řadu hitů Na české countryové scéně byla označována za první dámu country music.Připomeňme\, že v uplynulých letech na vánočním koncertě v Ořechu hráli: Spirituál Kvintet\, Lenka Filipová\, sourozenci Ulrychovi a Javory\, Václav Neckář\,&nbsp\; Jaroslav Uhlíř\, Hana Zagorová\, Petra Janů\, František Nedvěd\, Žalman a Petra Černocká.&nbsp\;&nbsp\;
LOCATION:Ořech
END:VEVENT
END:VCALENDAR