BEGIN:VCALENDAR
VERSION:2.0
CALSCALE:GREGORIAN
PRODID:-//MyApp//Calendar 1.0//EN
BEGIN:VEVENT
METHOD:PUBLISH
UID:36569@regionalniportaly.cz
DTSTAMP:20260420T072157Z
DTSTART;VALUE=DATE:20231124
DTEND;VALUE=DATE:20231125
SUMMARY:FLAT FLY + DJ Kaktusový Joe a kosmické fazole
DESCRIPTION:Vstupné: 200/250 Kč. Předprodej vstupenek v Trafice u Davida a na GoOut od 30. 10. 2023.\nFlat Fly jsou odpovědí na otázku “Co se stane\, když lázeňáci hrají SKA?” Krotitelé jednoduše znějícího žánru\, kterej umí skvěle zahrát. Srdcaři každým coulem\, který by mohli vyučovat hudební poctivost. Wembley asi nikdy nevyprodaj\, ale to jim je úplně šumák\, hlavně že je večírek.\nTo je poděbradská kapela FLAT FLY svůj styl vtipně označuje jako spa-ska – lázeňské ska\, což je směs ska\, reggae\, výrazných melodií\, uvolněné nálady a českých textů plných humoru a nadsázky.\nKapela vystupuje od roku 2010 po celé ČR a vydala již dvě autorská alba. Debutové CD Lázeňský dýchánek vyšlo v létě 2013 a druhé album Pod peřinou v září 2017. Doposud má kapela na kontě více než 200 koncertů\, z nichž nejdůležitější byla vystoupení na Lednovém undergroundu v Kralupech nad Vltavou\, Barevné planetě v Ústí nad Labem\, Sadska festu nebo Soundtracku Poděbrady. V roce 2015 zvítězili FLAT FLY v soutěži kapel TPCA Beat Fest v Kolíně.\nV roce 2023 vydala EP s názvem Srdcová královna\, které obsahuje 3 písně a mile rozvijí styl kapely.\nhttps://www.flatfly.czhttps://www.facebook.com/flatfly\nJeště před samotným koncertem a hlavně po něm roztočí své gramce DJ Kaktusový Joe a kosmické fazole. Můžete se těšit na jeho parádní kolekci desek – afrokaribské rytmy\, funky\, reggae a bůhví jaké další skvosty vytáhne ze své léta zaprášené sbírky.
LOCATION:Dobříš
END:VEVENT
END:VCALENDAR