BEGIN:VCALENDAR
VERSION:2.0
CALSCALE:GREGORIAN
PRODID:-//MyApp//Calendar 1.0//EN
BEGIN:VEVENT
METHOD:PUBLISH
UID:36625@regionalniportaly.cz
DTSTAMP:20260420T055853Z
DTSTART;VALUE=DATE:20231212
DTEND;VALUE=DATE:20231213
SUMMARY:DIALOGY S KRYLEM: koncertní recitál DAVIDA ULIČNÍKA
DESCRIPTION:Pozvánka na kocert:DIALOGY S KRYLEM je koncertní recitál\, který obsahuje nejen známé ale i pozapomenuté písně Karla Kryla.&nbsp\;Zajímavým prvkem celého programu je i průvodní slovo\, pomyslný hudební a literární dialog\, kterým David Uličník připomene životní příběh legendárního barda\, pozoruhodné momenty jeho tvorby i osobní vzpomínky na první setkání s Krylovou hudbou a básněmi.Recitál je v podání Davida Uličníka. Zpěváka známého z vokálního kvarteta 4TET\, ale i muzikálů jako Bídníci\, Miss Saigon\, Antoinetta nebo West Side Story. V neposlední řadě pak malíře.Koncert proběhne ve úterý 12. prosince 2023 v 19 hod v sále restaurace Florian v Jílovém u Prahy. Toto středověké zázemí osvěžíme nejen kulturou. K dizpozici bude i bar otevřený přímo v sále pro možnost zakoupit si občerstvení.Cena vstupenky je 350 KčKapacita sálu je omezená\, nevájete tedy s nákupem lístků.Lístky jsou k dispozici na níže uvedeném kontaktu po zaplacení vstupenky.Těšíme se na Vás v tomto advetním čase a věříme\, že si společně užijeme krásné chvíle.
LOCATION:Jílové u Prahy
END:VEVENT
END:VCALENDAR