BEGIN:VCALENDAR
VERSION:2.0
CALSCALE:GREGORIAN
PRODID:-//MyApp//Calendar 1.0//EN
BEGIN:VEVENT
METHOD:PUBLISH
UID:37253@regionalniportaly.cz
DTSTAMP:20260420T055654Z
DTSTART;VALUE=DATE:20240106
DTEND;VALUE=DATE:20240107
SUMMARY:Zábavné odpoledne s Tlapkovou Patrolou na podporu Tadeáška
DESCRIPTION:Živá duše v nouzi za podpory Města Jesenice u Prahy pořádáZábavné odpoledne s Tlapkovou Patrolou na podporu Tadeáška a jeho cesty k uzdravení.Můžete se těšit na odpoledne plné zábavy pro děti i dospělé.Skákací hrady\, malování na obličej\, maskoti\, pletení copů a soutěže o ceny.VystoupíHOPSÍK - dětský animátor a bavičPETRA BOHEMI - písničkářka\, textařkkaBALETNÍ VYSTOUPENÍ . v podání žáků 3. ročníku taneční konzervatoře hl. m. Prahy.Tombola pro dětikoloběžky\, kolo\, candy life boxy a další zajímavé cenyDražba pro dospěléhokejka a puk od Tomáše Hertlatři tréninky pod vedením fitness trenéra od Sebastiana Gunčíka&nbsp\;
LOCATION:Jesenice
END:VEVENT
END:VCALENDAR