BEGIN:VCALENDAR
VERSION:2.0
CALSCALE:GREGORIAN
PRODID:-//MyApp//Calendar 1.0//EN
BEGIN:VEVENT
METHOD:PUBLISH
UID:37328@regionalniportaly.cz
DTSTAMP:20260420T072147Z
DTSTART;VALUE=DATE:20231207
DTEND;VALUE=DATE:20231208
SUMMARY:Česká mše vánoční
DESCRIPTION:Kamenický pěvecký sbor s přispěním jílovského pěveckého sboru Homunculi a pozvaných sólistů za doprovodu Symfonického orchestru Dalibora Havlíčka představí nastudování České mše vánoční Jakuba Jana Ryby. Spolupráce sboristů z regionu s hostujícími sólovými zpěváky a hudebníky nabídne ojedinělý zážitek na zpříjemnění adventních dnů. Začátek v 19.30 h\, předprodej vstupenek v KD Kamenice nebo na uvedeném webovém portále. 
LOCATION:Kamenice
END:VEVENT
END:VCALENDAR