BEGIN:VCALENDAR
VERSION:2.0
CALSCALE:GREGORIAN
PRODID:-//MyApp//Calendar 1.0//EN
BEGIN:VEVENT
METHOD:PUBLISH
UID:37421@regionalniportaly.cz
DTSTAMP:20260420T053932Z
DTSTART;VALUE=DATE:20240112
DTEND;VALUE=DATE:20240113
SUMMARY:Phil Shoenfelt & Southern Cross
DESCRIPTION:V Praze usazený britský hudebník a skladatel Phil Shoenfelt je znám především svou hudbou na pomezí temných rockových šansonů.Společenský sál KD Dobříš\, pátek 12. ledna 2024 od 20.30 hod.Vstupné: 250/290 Kč.Předprodej vstupenek v Trafice u Davida v Dobříši a na GoOut od 4. 12. 2023.\nSNÍŽENÉ VSTUPNÉ 180 Kč.Platí u vybraných koncertů a pořadů pro studenty (do věku 26 let)\, učně\, důchodce a držitele průkazu ZTP. Slevu můžete uplatnit v den akce\, přímo u kasy\, po předložení OP\, studentského indexu\, průkazu ZTP apod. (Lze uplatnit pouze v případě volné kapacity sálu).\nPHIL SHOENFELT se v osmdesátých letech aktivně účastnil londýnské punkové exploze. Založil kapelu Khmer Rouge\, se kterou koncertoval v newyorských klubech. Společně s kapelami Nico či The Clash objel celé Spojené státy. Vrátil se do Londýna a vydal dvě sólová alba. Nick Cave si jej na začátku devadesátých let pozval jako zvláštního hosta na své britské turné. V roce 1995 se natrvalo usadil v Čechách. Zde založil s Pavlem Cinglem kapelu Southern Cross\, s níž koncertuje a nahrává dodnes. V roce 2008 vyšlo Cinglovi a Shoenfeltovi živé album Live At the House Of Sin\, které bylo v USA oceněno Grindie Award za nejlepší živou nahrávku.
LOCATION:Dobříš
END:VEVENT
END:VCALENDAR