BEGIN:VCALENDAR
VERSION:2.0
CALSCALE:GREGORIAN
PRODID:-//MyApp//Calendar 1.0//EN
BEGIN:VEVENT
METHOD:PUBLISH
UID:37496@regionalniportaly.cz
DTSTAMP:20260422T111208Z
DTSTART;VALUE=DATE:20231209
DTEND;VALUE=DATE:20231210
SUMMARY:Adventní varhanní koncert
DESCRIPTION:
LOCATION:Březnice
END:VEVENT
END:VCALENDAR