BEGIN:VCALENDAR
VERSION:2.0
CALSCALE:GREGORIAN
PRODID:-//MyApp//Calendar 1.0//EN
BEGIN:VEVENT
METHOD:PUBLISH
UID:37794@regionalniportaly.cz
DTSTAMP:20260420T141807Z
DTSTART;VALUE=DATE:20240810
DTEND;VALUE=DATE:20240817
SUMMARY:PERVERTVAJBkemp
DESCRIPTION:Pojeď na dětský tábor pro dospělé!Kapacita omezena. 36 lidí zažije něco\, co by měl zažít každý dospělý znovu!PERVERTVAJBKEMP - dětský tábor pro dospělé!10.8.-17.8.2024\, 3 oddíly po 12\, Hrachov 45\, budeš papat třikrát denně a budeš ubytovaný v chatkách. NESMÍŠ SI VZÍT MOBIL a domů můžeš volat jednou denně z telefonu ve společenské místnosti a nebo můžeš poslat pohled.Samozřejmě se na tebe můžou přijet podívat. Otevřené dveře pro partnery a děti a babičky a dědy budou! Nebuj!Worskhopy od těch nejlepších z České republiky a Slovenska\, co znáš:kování s uměleckým kovářem\, výroba čelenek a náramků a prstýnků\, šití spodního prádla\, vyrábění harnessů\, jógy každé ráno\, výroba lampionů\, výroba parfémů\, výroba svíček\, výroba broží z korálků\, keramika\, sochařství se sochařem\, SVĚTLONOŠ\, výuka angličtiny\, němčiny\, španělštiny a francouzštiny\, výuka na kytaru\, bicí a další!Každý večer hudební program\, živé kapely a DJs a tombola samozřejmě bude!Povinné celotáborové aktivity - budeš vstávat v 6:00 za zvuku trumpety\, půjdeš na rozcvičku\, budeš mejt nádobí\, budeš muset odpočívat po obědě\, budeš vyhrávat a prohrávat ve volejbale nebo v celotáborových hrách. Budeš mít rodinu na 7 dní s jedním tátou nebo mámou. A jestli chceš být v mém oddílu\, tak mi napiš. Zaplatíš si víc\, ale odvezu si tě z tvého domova\, pomůžu ti zabalit a zkusím ti změnit život nebo alespoň se pokusím tě naučit být zase dítě!!!BUĎ ZASE DÍTĚ!!!
LOCATION:Dublovice
END:VEVENT
END:VCALENDAR