BEGIN:VCALENDAR
VERSION:2.0
CALSCALE:GREGORIAN
PRODID:-//MyApp//Calendar 1.0//EN
BEGIN:VEVENT
METHOD:PUBLISH
UID:38430@regionalniportaly.cz
DTSTAMP:20260420T072812Z
DTSTART;VALUE=DATE:20240223
DTEND;VALUE=DATE:20240224
SUMMARY:Sto zvířat | Dobříš\, Kulturní dům
DESCRIPTION:Turné s názvem "99 zvířat na turné" k 34 letům existence kapely\, kde představíme nové album a společně vzpomeneme na Honzu.\nKapela vznikla v roce 1990 ze studentského rock'n'roll bandu Matěj Čech a představila se pražskému publiku podzimním dvojkoncertem v Malostranské besedě v Praze. Dosud vydala 12 alb\, zatím poslední 30 let testováno na lidech vyšlo v roce 2020. Kapela odehrála na dva a půl tisíce koncertů u nás\, v USA\, v Německu\, ve Francii\, Švýcarsku\, Belgii a Lucembursku. Nejsledovanějším klipem na Youtube je píseň Nikdy nic nebylo\, která má nejméně přes 8 milionů shlédnutí. Mezi zakládající členy patřil spolu se zpěvačkou Janou Jelínkovou a textařem Tomášem Belkem i zpěvák Honza Kalina\, který zemřel na následky nemoci nečekaně 18. srpna 2023.\nVstupné: 350\,- (předprodej Trafika u Davida\, Dobříš)\; 390\,- (on-line prodej na GoOut a na místě). Předprodej bude zahájen v pondělí 4.12. 2023.
LOCATION:Dobříš
END:VEVENT
END:VCALENDAR