BEGIN:VCALENDAR
VERSION:2.0
CALSCALE:GREGORIAN
PRODID:-//MyApp//Calendar 1.0//EN
BEGIN:VEVENT
METHOD:PUBLISH
UID:38722@regionalniportaly.cz
DTSTAMP:20260420T055800Z
DTSTART;VALUE=DATE:20240525
DTEND;VALUE=DATE:20240526
SUMMARY:Kinderland Festival | Dlouhá Lhota u Příbrami 2024
DESCRIPTION:Největší pohádkový festival KINDERLAND míří na zámecký park panství&nbsp\;Dlouhé Lhoty u Příbrami! ❤️KINDERLAND je kouzelné místo\, kde Vaše děti konečně zažijí své oblíbené pohádkové postavičky na živo!A nejen to\, na našem Kinderlandu najdete spoustu velkých skákacích hradů\, atrakcí a na všechny děti čeká celodenní animační program\, spoustu zpívání a hlavně tancování se všemi jejich pohádkovými oblíbenci! 😸🐭🍌Co vše najdete na KINDERLANDU:⭐ Celodenní program pro celou rodinu⭐ Oblíbené pohádkové postavičky v životní velikosti⭐ Velké pohádkové skakací hrady&nbsp\;⭐ Malování na oblíčej⭐ Kouzelník a jeho show⭐ Hrátky s klaunem⭐ Diskotéka pro děti⭐ Soutěže a hry⭐ Lahodná gastro zóna&nbsp\;⭐ Kreativní a tvořivé dílničky pro děti⭐ Focení s maskoty... a mnoho dalšího! 😍Celým programem vás pak provede náš profesionální moderátor.Děti do 24 měsíců zdarma bez vstupenky\, každý jiný návštěvník musí mít platnou vstupenku\, cena vstupenek je shodná pro děti i dospělé. Využijte i možnost rodinného vstupného pro libovolné 4 členy Vaší rodiny.Tým Kinderland!
LOCATION:Dlouhá Lhota
END:VEVENT
END:VCALENDAR