BEGIN:VCALENDAR
VERSION:2.0
CALSCALE:GREGORIAN
PRODID:-//MyApp//Calendar 1.0//EN
BEGIN:VEVENT
METHOD:PUBLISH
UID:38865@regionalniportaly.cz
DTSTAMP:20260420T053758Z
DTSTART;VALUE=DATE:20240317
DTEND;VALUE=DATE:20240318
SUMMARY:TRANSFORMERS SHOW!
DESCRIPTION:Jesenice a okolí\, tuhle neděli děti rozhodně nebudou chtít strávit u televize.Horká novinka&nbsp\;- SHOW GIGANTICKÝCH ROBOTŮ&nbsp\;ve Vašem městě!&nbsp\;Jediné turné v&nbsp\;ČR\, které když propásnete\, bude nenávratně pryč.pozn.:&nbsp\;Kamarádka vás zabije\, pokud ji nedáte vědět taky :)
LOCATION:Jesenice
END:VEVENT
END:VCALENDAR