BEGIN:VCALENDAR
VERSION:2.0
CALSCALE:GREGORIAN
PRODID:-//MyApp//Calendar 1.0//EN
BEGIN:VEVENT
METHOD:PUBLISH
UID:38982@regionalniportaly.cz
DTSTAMP:20260420T072054Z
DTSTART;VALUE=DATE:20240301
DTEND;VALUE=DATE:20240302
SUMMARY:Znouzectnost v Davli
DESCRIPTION:Česká legenda hrající punk (melodický punk´n´roll)&nbsp\;od roku 1986 \, byla založena v Plzni. V repertoáru můžete najít kousky i v jiném hudební stylu\, ZNC vystupuje pouze s vlastní hudební tvorbou\, kterou narála na více než 10 vydaných albech. V současné době kapela hraje v tříčlené sestavě :„Déma“ (Petr Škabrada)„Golda“ (Oldřich Neumann)„Caine“ (Jaroslav Matějovský)Přijďte poslechnout legendu českého punku\, kapelu ZNC\, která zavítá do Davle.
LOCATION:Davle
END:VEVENT
END:VCALENDAR