BEGIN:VCALENDAR
VERSION:2.0
CALSCALE:GREGORIAN
PRODID:-//MyApp//Calendar 1.0//EN
BEGIN:VEVENT
METHOD:PUBLISH
UID:39791@regionalniportaly.cz
DTSTAMP:20260420T141648Z
DTSTART;VALUE=DATE:20240720
DTEND;VALUE=DATE:20240721
SUMMARY:Koncert skupiny Olympic
DESCRIPTION:V rámci Tour 2024 skupiny Olympic vystoupí tato legendární kapela také v areálu zámku v Králově Dvoře. Své fanoušky a příznivce\, které má už v několika generacích\, potěší v sobotu 20. července od 19 hodin. Jako předkapela zahraje místní populární&nbsp\;Moped 56.Velkolepá show a úžasná příležitost slyšet\, vidět a zažít na vlastní kůži ucelené kouzlo koncertu nestárnoucí české legendy\, kterou bezesporu skupina Olympic je.&nbsp\;A aby byl zážitek kompletní\, nepřijdete&nbsp\;o ty největší hity z šedesátileté historie kapely Olympic.&nbsp\; To je Tour 2024!POČET VSTUPENEK JE OMEZEN KAPACITOU AREÁLU!!!
LOCATION:Králův Dvůr
END:VEVENT
END:VCALENDAR