BEGIN:VCALENDAR
VERSION:2.0
CALSCALE:GREGORIAN
PRODID:-//MyApp//Calendar 1.0//EN
BEGIN:VEVENT
METHOD:PUBLISH
UID:39886@regionalniportaly.cz
DTSTAMP:20260420T161347Z
DTSTART;VALUE=DATE:20240803
DTEND;VALUE=DATE:20240804
SUMMARY:Rockovej Královák XII.
DESCRIPTION:Na letní scéně zámku v Králově Dvoře se v sobotu 3. srpna 2024&nbsp\;uskuteční další ročník rockového festivalu Rockovej Královák. Letošní\, už dvanáctý&nbsp\;ročník\, přinese pořádný nářez rockové muziky. Stejně jako v uplynulých letech na něm vystoupí kapela Black Hill a Destroy!&nbsp\;&nbsp\;Dále se můžete těšit na kapely Satisfvcktion\, Censorshit a Deadroots.
LOCATION:Králův Dvůr
END:VEVENT
END:VCALENDAR