BEGIN:VCALENDAR
VERSION:2.0
CALSCALE:GREGORIAN
PRODID:-//MyApp//Calendar 1.0//EN
BEGIN:VEVENT
METHOD:PUBLISH
UID:40115@regionalniportaly.cz
DTSTAMP:20260420T141728Z
DTSTART;VALUE=DATE:20240809
DTEND;VALUE=DATE:20240810
SUMMARY:Koncert kapely KEKS a Michala Šindeláře
DESCRIPTION:V rámci dalšího ročníku Kulturního léta&nbsp\; uslyšíte v pátek 9. srpna 2024 na letní scéně&nbsp\;na zámku v Králově Dvoře&nbsp\;populární benešovskou rockovou kapelu KEKS\, která má stále velmi mnoho&nbsp\;fanoušků. Skupinu&nbsp\;Keks není třeba dlouze představovat. Její působení na hudební scéně započal již na přelomu roku 1981 a 1982 Petr Dudík (klávesy a zpěv)\, který společně se Štěpánem Kojanem (kytara a zpěv)\, působí ve skupině dodnes. Neodmyslitelnou součást dnešního složení Keks tvoří i Václav Šobíšek (baskytara) a Václav Suchý (bicí a perkuse). Z&nbsp\;původně „vesnické kapely“ hrající na zábavách\, se propracovali až na pódia našich největších festivalů\, pronikli do rádií\, televize\, ale i do ankety Zlatý Slavík.Hostem na jejich koncertu v Králově Dvoře bude Michal Šindelář.&nbsp\;Kulturní a společenská akce se uskuteční v příjemném areálu zámku v Králově Dvoře na jeho zastřešené letní scéně za každého počasí.&nbsp\;
LOCATION:Králův Dvůr
END:VEVENT
END:VCALENDAR