BEGIN:VCALENDAR
VERSION:2.0
CALSCALE:GREGORIAN
PRODID:-//MyApp//Calendar 1.0//EN
BEGIN:VEVENT
METHOD:PUBLISH
UID:40172@regionalniportaly.cz
DTSTAMP:20260420T053807Z
DTSTART;VALUE=DATE:20240407
DTEND;VALUE=DATE:20240408
SUMMARY:Elegance molekuly
DESCRIPTION:ELEGANCE MOLEKULY / Petr ZelenkaTři molekuly\, tři muži s vizí a odvahou riskovatElegance molekuly • Petr Zelenka • ČR\, 2024 • 150 min • česky • přístupný • premiéra inscenace: 5.&nbsp\;4.&nbsp\;2018 • divadlo • přímý přenosRežie: Petr ZelenkaScéna: Nikola TempírKostýmy: Michaela Horáčková HořejšíDramaturgie: Olga ŠubrtováProjekce: Anebo Tou-fuPředpokládaná délka: 150 minut (včetně jedné přestávky)Hrají: Ivan Trojan\, Veronika Khek Kubařová\, Martin Myšička\, Zdeňka Žádníková\, Pavel Šimčík\, Petr Vršek\, Vladimír Polívka\, Václav Jiráček\, Elizaveta Maximová\, Lada JelínkováJedna z&nbsp\;nejúspěšnějších a nejoceňovanějších inscenací na současném repertoáru Dejvického divadla. Hra byla oceněná v rámci Cen divadelní kritiky 2018 jako nejlepší poprvé uvedená česká hra roku.Anotace:Z chemické laboratoře do lékárny na nejbližším rohu je to často jen pár stovek metrů. Ale molekula léku na téhle cestě projde procesem za stovky milionů dolarů\, na kterém se podílejí často tisíce lidí. Tedy ta molekula\, která má štěstí a dojde do cíle. Tři takové látky a jejich tři „otce“\, z&nbsp\;nichž jedním byl i geniální český chemik\, profesor Antonín Holý\, sleduje divadelní hra ELEGANCE MOLEKULY. Zkoumá vznik a velice dramatický průmyslový vývoj látek z českých chemických laboratoří\, které dnes léčí AIDS u více než osmdesáti procent pacientů na celém světě.Otto Wichterle měl svoji slavnou historku o tom\, jak na stavebnici Merkur sestrojil přístroj na odstředění prvních kontaktních čoček. Hra Petra Zelenky hledá takový „Merkur“ v životě chemika Antonína Holého.Příběh o silné vizi\, předvídavosti\, štěstí a odměně\, která přišla příliš pozdě.Přímý přenos představení v&nbsp\;kinech v&nbsp\;jediný večer:&nbsp\;7.&nbsp\;4.&nbsp\;2024 od 19:00&nbsp\;✦✦✦Inscenace vznikla s&nbsp\;finančním přispěním Nadačního fondu Neuron na podporu vědy.
LOCATION:Řevnice
END:VEVENT
END:VCALENDAR