BEGIN:VCALENDAR
VERSION:2.0
CALSCALE:GREGORIAN
PRODID:-//MyApp//Calendar 1.0//EN
BEGIN:VEVENT
METHOD:PUBLISH
UID:40641@regionalniportaly.cz
DTSTAMP:20260420T070205Z
DTSTART;VALUE=DATE:20240426
DTEND;VALUE=DATE:20240427
SUMMARY:Tanga pro tři | Talkshow
DESCRIPTION:Talk show plná nekompromisního humoru! Petr Čtvrtníček\, Leoš Noha\, v roli moderátorky Kateřina Kaira Hrachovcová. Jak bývá zvykem u této trojice\, můžete se těšit na salvu ultimátního humoru z historek\, gagů\, vtipů a ... toho večera je vše možné! Zkrátka\, když tři tančí tango\, tak je potřeba objednat tanga pro tři!Účinkuji: Petr Čtvrtníček\, Leoš Noha\, Kateřina Kaira Hrachovcová
LOCATION:Řevnice
END:VEVENT
END:VCALENDAR