BEGIN:VCALENDAR
VERSION:2.0
CALSCALE:GREGORIAN
PRODID:-//MyApp//Calendar 1.0//EN
BEGIN:VEVENT
METHOD:PUBLISH
UID:40953@regionalniportaly.cz
DTSTAMP:20260420T070155Z
DTSTART;VALUE=DATE:20240406
DTEND;VALUE=DATE:20240407
SUMMARY:Jarní výlet s přespáním
DESCRIPTION:Dva dny plné zábavy\, nových kamarádů\, spousty překvapení a v neposlední řadě také odpočinku a pohody pro rodiče. :-) Tentokrát se vydáme za medvědy do Kolína!Dva dny plné zábavy\, nových kamarádů\, spousty překvapení a v neposlední řadě také odpočinku a pohody pro rodiče. :-) Tentokrát se vydáme za medvědy do Kolína! Vlakem pojedeme na kolínské nádraží\, užijeme si procházku městem\, navštívíme sochu a pomník medvědů\, kostel sv. Bartoloměje a u něj nádherné Zahrady na Parkáně.\nPřespíme v kolínské sokolovně\, která nám poskytne zázemí a super vybavení na nejrůznější sportovní aktivity. Večer nás čeká super tématické promítání filmu „Pojďte pane\, budeme si hrát“.\nVýlet s přespáním pořádáme pravidelně a máme zkušenosti\, že je to vždy něco výjimečného.
LOCATION:Dobříš
END:VEVENT
END:VCALENDAR