BEGIN:VCALENDAR
VERSION:2.0
CALSCALE:GREGORIAN
PRODID:-//MyApp//Calendar 1.0//EN
BEGIN:VEVENT
METHOD:PUBLISH
UID:40955@regionalniportaly.cz
DTSTAMP:20260420T141626Z
DTSTART;VALUE=DATE:20240804
DTEND;VALUE=DATE:20240808
SUMMARY:Dobrodružná výprava - letní tábor pro holky i kluky
DESCRIPTION:Říká vám něco únikovka\, dobrodružství\, bojovka\, hádanky nebo legrace? Tak je to tábor přesně pro vás! :-)\n \nLetní tábor s přespáním\, na kterém získáte spousty super zážitků a nová přítelství! Takže všichni od 9 do 14 let v termínu 4.–8. srpna s námi mohou zažít dobrodružný týden s přespáním! Říká vám něco únikovka\, dobrodružství\, bojovka\, hádanky nebo legrace? Tak je to tábor přesně pro vás! :-)\n \n„Tento tábor je pro nás ve Veselé rodině novinkou a moc se na něj těšíme. Jezdila jsem na tábory jako vedoucí dlouhá léta\, a proto mám radost\, že se moje přání uspořádat tábor s přespáním pro starší děti splnilo\,“ říká Sára\, která tábor organizuje.\n„Tábor je vhodný pro všechny holky i kluky\, co si s námi chtějí užít nabitý program. Věřím\, že je program bude bavit\, chystáme spoustu super aktivit a překvapení\,“ dodává vedoucí Dan.\n \nTábor pořádá Veselá rodina\, z. ú.\, která má s pořádáním akcí dlouholeté zkušenosti. :-) Pořádá příměstské tábory\, narozeninové oslavy\, animační programy\, veselé karnevaly a spousty dalšího! Animátoři Sárka a Dan se na všechny moc těší! :-)\n \nTábor se uskuteční v Kempu Brdy Věšín (Věšín 172\, 262 43 Věšín). V neděli přijedete a ve čtvrtek odjedete.\n \nVeškeré informace k přihlášení najdete na našich stránkách www.veselarodina.org nebo nás kontaktujte na email info@veselarodina.org
LOCATION:Věšín
END:VEVENT
END:VCALENDAR