BEGIN:VCALENDAR
VERSION:2.0
CALSCALE:GREGORIAN
PRODID:-//MyApp//Calendar 1.0//EN
BEGIN:VEVENT
METHOD:PUBLISH
UID:41320@regionalniportaly.cz
DTSTAMP:20260420T072902Z
DTSTART;VALUE=DATE:20240507
DTEND;VALUE=DATE:20240508
SUMMARY:Indi Stivín: Večer s Antonínem Dvořákem
DESCRIPTION:
LOCATION:Březnice
END:VEVENT
END:VCALENDAR