BEGIN:VCALENDAR
VERSION:2.0
CALSCALE:GREGORIAN
PRODID:-//MyApp//Calendar 1.0//EN
BEGIN:VEVENT
METHOD:PUBLISH
UID:41321@regionalniportaly.cz
DTSTAMP:20260420T070145Z
DTSTART;VALUE=DATE:20240509
DTEND;VALUE=DATE:20240510
SUMMARY:Anna Paulová & Hedvika Mousa Bacha
DESCRIPTION:
LOCATION:Hvožďany
END:VEVENT
END:VCALENDAR