BEGIN:VCALENDAR
VERSION:2.0
CALSCALE:GREGORIAN
PRODID:-//MyApp//Calendar 1.0//EN
BEGIN:VEVENT
METHOD:PUBLISH
UID:41323@regionalniportaly.cz
DTSTAMP:20260420T072913Z
DTSTART;VALUE=DATE:20240511
DTEND;VALUE=DATE:20240512
SUMMARY:VientoMarero duo
DESCRIPTION:
LOCATION:Třebsko
END:VEVENT
END:VCALENDAR