BEGIN:VCALENDAR
VERSION:2.0
CALSCALE:GREGORIAN
PRODID:-//MyApp//Calendar 1.0//EN
BEGIN:VEVENT
METHOD:PUBLISH
UID:41327@regionalniportaly.cz
DTSTAMP:20260422T085431Z
DTSTART;VALUE=DATE:20240518
DTEND;VALUE=DATE:20240519
SUMMARY:Czech Philharmonic Jazz Band
DESCRIPTION:
LOCATION:Březnice
END:VEVENT
END:VCALENDAR