BEGIN:VCALENDAR
VERSION:2.0
CALSCALE:GREGORIAN
PRODID:-//MyApp//Calendar 1.0//EN
BEGIN:VEVENT
METHOD:PUBLISH
UID:41331@regionalniportaly.cz
DTSTAMP:20260420T072025Z
DTSTART;VALUE=DATE:20240528
DTEND;VALUE=DATE:20240529
SUMMARY:Koncert laureátů
DESCRIPTION:
LOCATION:Vysoká u Příbramě
END:VEVENT
END:VCALENDAR