BEGIN:VCALENDAR
VERSION:2.0
CALSCALE:GREGORIAN
PRODID:-//MyApp//Calendar 1.0//EN
BEGIN:VEVENT
METHOD:PUBLISH
UID:41826@regionalniportaly.cz
DTSTAMP:20260420T161425Z
DTSTART;VALUE=DATE:20240712
DTEND;VALUE=DATE:20240713
SUMMARY:Retro Dance Párty
DESCRIPTION:80s - 90s RETRO DANCE PÁRTY je šestihodinový disco ples těch největších hitů osmdesátých a devadesátých let s přesahem na léta sedmdesátá až po milénium. Zkrátka od Abby\, přes Modern Talking až po Rihannu.Přijďte klidně v džínech\, ale nejlépe retro! Nejlepší retro kostýmy budou odměněny!Těšit se můžete na luxusní BOSE sound\, světelnou show\, soutěže a retro FOTOKOUTEK! Doba je zlá\, tak tancujme\, dokud můžeme!Na místě budou k dispozici vstupenky v ceně 300 Kč bez garance sezení.Fotokoutek:&nbsp\; fotografie 10x15 cm&nbsp\; -&nbsp\; 50 Kč
LOCATION:Hradištko
END:VEVENT
END:VCALENDAR