BEGIN:VCALENDAR
VERSION:2.0
CALSCALE:GREGORIAN
PRODID:-//MyApp//Calendar 1.0//EN
BEGIN:VEVENT
METHOD:PUBLISH
UID:42116@regionalniportaly.cz
DTSTAMP:20260422T085524Z
DTSTART;VALUE=DATE:20240512
DTEND;VALUE=DATE:20240513
SUMMARY:Sporťácká neděle
DESCRIPTION:Sporťáckou neděli pořádáme již třetí rok a vždy se snažíme zajistit pestrý program\, aby si každý přišel na své a zároveň si děti vyzkoušely něco nového. Holky i kluci si s námi senzačně zasportují\, poznají nové kamarády a zažijí spoustu zábavy. Celý den se o děti postarají zkušené animátorky z Veselé rodiny a další úžasní trenéři\, kteří jsou opravdoví profíci ve svém oboru.
LOCATION:Dobříš
END:VEVENT
END:VCALENDAR