BEGIN:VCALENDAR
VERSION:2.0
CALSCALE:GREGORIAN
PRODID:-//MyApp//Calendar 1.0//EN
BEGIN:VEVENT
METHOD:PUBLISH
UID:42936@regionalniportaly.cz
DTSTAMP:20260420T141738Z
DTSTART;VALUE=DATE:20240713
DTEND;VALUE=DATE:20240714
SUMMARY:Pavel Nový - Můj život je ... Báječný film - talk show
DESCRIPTION:Pavel NovýNenechte si ujít další úžasné setkání s posledním žijícím tatínkem z filmu - S tebou mě baví svět.&nbsp\;&nbsp\;S tebou mě baví svět je československá filmová rodinná komedie režisérky Marie Poledňákové z roku 1982\, která byla roku 1998 na základě divácké ankety České televize vyhlášena českou komedií století.Pavel Nový hrál například ve filmech Balada pro banditu nebo Postav dom\, zasaď strom. Velkou popularitu mu přinesla postava zvukaře Pepy z úspěšné české veselohry S tebou mě baví svět. V televizi hrál například v seriálech Velké sedlo nebo Zdivočelá země. Mimo jiné účinkuje v seriálu Ulice\, ve kterém ztvárňuje profesora Mojmíra Kalinu.V roce 2023 získal na Zlín Film Festivalu ocenění Zlatý střevíček za mimořádný přínos kinematografii pro děti a mládež.Talk show\, kde moderátor Tomáš Kubík&nbsp\; probere s panem Novým všechny \,\, Veselé historky z natáčení\,\,&nbsp\;a nejen to :)
LOCATION:Heřmaničky
END:VEVENT
END:VCALENDAR