BEGIN:VCALENDAR
VERSION:2.0
CALSCALE:GREGORIAN
PRODID:-//MyApp//Calendar 1.0//EN
BEGIN:VEVENT
METHOD:PUBLISH
UID:44169@regionalniportaly.cz
DTSTAMP:20260420T161436Z
DTSTART;VALUE=DATE:20240726
DTEND;VALUE=DATE:20240728
SUMMARY:Repete Fest 2024
DESCRIPTION:
LOCATION:Rožmitál pod Třemšínem
END:VEVENT
END:VCALENDAR