BEGIN:VCALENDAR
VERSION:2.0
CALSCALE:GREGORIAN
PRODID:-//MyApp//Calendar 1.0//EN
BEGIN:VEVENT
METHOD:PUBLISH
UID:44945@regionalniportaly.cz
DTSTAMP:20260420T141536Z
DTSTART;VALUE=DATE:20240804
DTEND;VALUE=DATE:20240805
SUMMARY:Vinnetou a zlato apačů
DESCRIPTION:Srdečně Vás zveme na desátý ročník divadelního festivalu Vinnetou pokrevní bratrství\, letos nazvaný Vinnetou a zlato apačů\, který se uskuteční v areálu naší jezdecké školy ve dnech 3. a 4. srpna 2024 od 17 hodin. Po boku našich koní a stálých protagonistů vystoupí letos opět i hvězdný host.&nbsp\;
LOCATION:Neveklov
END:VEVENT
END:VCALENDAR