BEGIN:VCALENDAR
VERSION:2.0
CALSCALE:GREGORIAN
PRODID:-//MyApp//Calendar 1.0//EN
BEGIN:VEVENT
METHOD:PUBLISH
UID:46602@regionalniportaly.cz
DTSTAMP:20260422T194351Z
DTSTART;VALUE=DATE:20241012
DTEND;VALUE=DATE:20241013
SUMMARY:Podzimní výlet s přespáním
DESCRIPTION:Podzimní výlet s přespáním je tady! Holky\, kluci\, pojďte si užít spousty zábavy!\n \nTěšit se můžete na spousty her\, soutěží\, zábavy a legrace! Vždyť my to ani jinak neumíme!\nVytvoříme si úžasnou partu kamarádů\, budeme mít skvělé jídlo a tentokrát přespíme v dětské herně\, konkrétně v kavárně Puntík. Strávit noc v herně? To je přeci sen\, tak se pojďte přihlásit\, ať vám místo neuteče\, kapacita je omezená.\n \nLetošní rok budeme odhalovat podzimní Dobříš a vsadíme se\, že díky naší Sárce objevíte něco nového\, úžasného a prostě poznáte naše město zase trochu jinak.\n„Letos se opět vydáme za podzimním putováním. Tentokrát si užijeme podzimní Dobříš tak\, jak ji určitě neznáte. Už teď se moc těším\, co vše objevíme a co společně zažijeme. Dva nabité dny plné soutěží\, her\, nových přátelství a mnoho dalšího. Těším se na všechny!“ říká organizátorka výletu Sára.\nCena za celý výlet včetně všech výdajů je 1 300 Kč. Tak co? Jdete s námi objevovat krásy podzimu?\n \nVíce informací o výletu i přihlašování na www.veselarodina.org.
LOCATION:Dobříš
END:VEVENT
END:VCALENDAR