BEGIN:VCALENDAR
VERSION:2.0
CALSCALE:GREGORIAN
PRODID:-//MyApp//Calendar 1.0//EN
BEGIN:VEVENT
METHOD:PUBLISH
UID:47276@regionalniportaly.cz
DTSTAMP:20260420T222150Z
DTSTART;VALUE=DATE:20241105
DTEND;VALUE=DATE:20241106
SUMMARY:Inspirativní kurz adaptace na měnící se klima: Kvalita vs. cena
DESCRIPTION:Vnímáte dopady klimatické změny ve vašem městě\, obci? Chcete se dozvědět více o možnostech\, jak zmírnit přehřívání budov a veřejného prostoru\, jak hospodařit s dešťovou vodou či zda se vyplatí zelená střecha? Přijďte na seminář\, který vám pomůže připravit města a okolní krajinu na extrémy počasí\, jako jsou vlny veder\, sucho\, přívalové deště a povodně. Vedle modrozelené infrastruktury se pobavíme také o tom\, jak šetřit finance i přírodu při rekonstrukcích a provozu obecních budov\, proč nezadávat zakázky jen podle ceny či jak připravit kvalitní projekt a zajistit jeho realizaci. Součástí kurzu je komentovaná prohlídka budovy místní základní školy.\n \nKdy: 5. listopadu 2024\, 9:00-16:00Kde: Regionální informační centrum Dolní Břežany\, Na panský 11Registrace: www.nap.cz/Kurz-Dolni-Brezany- 5-11-2024\nPro koho je kurz určen?Zaměstnance obecních a městských úřadů\, radní a zastupitele\, ředitele a pracovníky příspěvkových organizací\, krajinné i městské architekty\, ad.\n \nKurz pořádá program Adapterra Nadace Partnerství. Je spolufinancován Evropskou unií v rámci programu LIFE. Je součástí aktivit projektu LIFE ClimArchiBase.
LOCATION:Dolní Břežany
END:VEVENT
END:VCALENDAR