BEGIN:VCALENDAR
VERSION:2.0
CALSCALE:GREGORIAN
PRODID:-//MyApp//Calendar 1.0//EN
BEGIN:VEVENT
METHOD:PUBLISH
UID:52368@regionalniportaly.cz
DTSTAMP:20260422T131932Z
DTSTART;VALUE=DATE:20250412
DTEND;VALUE=DATE:20250413
SUMMARY:Jarní výlet s přespáním pro děti: Jedinečné dva dny plné zábavy a zážitků!
DESCRIPTION:Milé děti\, pojďte s námi za dobrodružstvím! Blíží se oblíbený jarní výlet s přespáním\, který dětem přinese dva dny plné dobrodružství\, her a zážitků v přírodě. Akce\, konaná ve dnech 12.–13. dubna 2025\, je určena pro holky i kluky ve věku od 5 do 12 let\, kteří chtějí zažít nezapomenutelný víkend bez rodičů.  Veselý jarní výlet je skvělou příležitostí\, jak si děti mohou užít víkend\, poznat nové kamarády a užít si pestrý program plný her\, soutěží a výletů.\n \nProgram víkendového výletu zahrnuje nejen hry a sportovní aktivity\, ale také dobrodružné úkoly\, večerní zábavu a tematická překvapení\, která dětem zaručeně vykouzlí úsměv na tváři. A kde že budou děti tentokrát přespávat? V inspirativním vzdělávacím centru Eduarts v Příbrami. Rodiče\, kteří chtějí svým dětem dopřát tento jedinečný zážitek\, naleznou více informací na webových stránkách www.veselarodina.org nebo na sociálních sítích organizace. Kapacita je omezená\, proto doporučujeme přihlášení co nejdříve u hlavní organizátorky akce Sáry na tel.: 736 229 236
LOCATION:Dobříš
END:VEVENT
END:VCALENDAR