BEGIN:VCALENDAR
VERSION:2.0
CALSCALE:GREGORIAN
PRODID:-//MyApp//Calendar 1.0//EN
BEGIN:VEVENT
METHOD:PUBLISH
UID:53283@regionalniportaly.cz
DTSTAMP:20260422T145639Z
DTSTART;VALUE=DATE:20250719
DTEND;VALUE=DATE:20250720
SUMMARY:Koncert kapely Protheus
DESCRIPTION:V rámci Kulturního léta na zámku v Králově Dvoře jsme pro Vás připravili koncert skupiny Protheus a kapely Jacker´s. Své fanoušky a příznivce\, které kapela Protheus v Králově Dvoře má\, potěší v sobotu 19. července od 20&nbsp\;hodin. Jako předkapela zahraje Jacker´s.&nbsp\;Protheus\, vlastním jménem Jan Macků\, je zpěvák skupiny Dymytry.&nbsp\; Od roku 2019 odstartoval singlem a&nbsp\;klipem Poločas svůj sólový projekt nazvaný prostě Protheus.
LOCATION:Králův Dvůr
END:VEVENT
END:VCALENDAR