BEGIN:VCALENDAR
VERSION:2.0
CALSCALE:GREGORIAN
PRODID:-//MyApp//Calendar 1.0//EN
BEGIN:VEVENT
METHOD:PUBLISH
UID:53441@regionalniportaly.cz
DTSTAMP:20260422T130733Z
DTSTART;VALUE=DATE:20250614
DTEND;VALUE=DATE:20250615
SUMMARY:Families day 2025
DESCRIPTION:Další ročník rodinného hudebního festivalu pro celou rodinu. Každý si opět přijde na své. Děti se vyblbnou a rodiče zapaří! To si nemůžete nechat ujít!
LOCATION:Dobříš
END:VEVENT
END:VCALENDAR